BEGIN:VCALENDAR
VERSION:2.0
PRODID:-//Promise of Leadership Institute - ECPv6.15.20//NONSGML v1.0//EN
CALSCALE:GREGORIAN
METHOD:PUBLISH
X-ORIGINAL-URL:https://pliinstitute.com
X-WR-CALDESC:Events for Promise of Leadership Institute
REFRESH-INTERVAL;VALUE=DURATION:PT1H
X-Robots-Tag:noindex
X-PUBLISHED-TTL:PT1H
BEGIN:VTIMEZONE
TZID:UTC
BEGIN:STANDARD
TZOFFSETFROM:+0000
TZOFFSETTO:+0000
TZNAME:UTC
DTSTART:20250101T000000
END:STANDARD
END:VTIMEZONE
BEGIN:VEVENT
DTSTART;TZID=UTC:20260210T140000
DTEND;TZID=UTC:20260210T153000
DTSTAMP:20260426T005022
CREATED:20260203T084608Z
LAST-MODIFIED:20260206T034938Z
UID:10000001-1770732000-1770737400@pliinstitute.com
SUMMARY:The Digital Dictum
DESCRIPTION:The judicial analysis of the FREEDOM OF EXPRESSION vs. THE POWER TO CENSOR The CMA Act\, 2025 \nPlease enable JavaScript in your browser to complete this form.Please enable JavaScript in your browser to complete this form.		\n			Other How Specify)\n			\n		\n		Name *FirstLastEmail *Organization *How did you hear about PLI? *LinkedInWhatsAppShared LinkOtherOther (Please Specify)Submit
URL:https://pliinstitute.com/event/the-digital-dictum/
ATTACH;FMTTYPE=image/jpeg:https://pliinstitute.com/wp-content/uploads/2026/02/Image_fx-2.jpg
ORGANIZER;CN="Promise of Leadership Institute":MAILTO:info@pliinstitute.com
LOCATION:https://pliinstitute.com/event/the-digital-dictum/
END:VEVENT
END:VCALENDAR