BEGIN:VCALENDAR
VERSION:2.0
PRODID:-//Promise of Leadership Institute - ECPv6.15.20//NONSGML v1.0//EN
CALSCALE:GREGORIAN
METHOD:PUBLISH
X-WR-CALNAME:Promise of Leadership Institute
X-ORIGINAL-URL:https://pliinstitute.com
X-WR-CALDESC:Events for Promise of Leadership Institute
REFRESH-INTERVAL;VALUE=DURATION:PT1H
X-Robots-Tag:noindex
X-PUBLISHED-TTL:PT1H
BEGIN:VTIMEZONE
TZID:Asia/Singapore
BEGIN:STANDARD
TZOFFSETFROM:+0800
TZOFFSETTO:+0800
TZNAME:+08
DTSTART:20250101T000000
END:STANDARD
END:VTIMEZONE
BEGIN:VEVENT
DTSTART;VALUE=DATE:20260615
DTEND;VALUE=DATE:20260620
DTSTAMP:20260425T193601
CREATED:20260422T080059Z
LAST-MODIFIED:20260422T080059Z
UID:10000002-1781481600-1781913599@pliinstitute.com
SUMMARY:Singapore Study Tour
DESCRIPTION:The Singapore Study Tour 2026 brings together leaders\, professionals\, and governance practitioners seeking deeper insight into modern governance systems. Guided by the theme “Governance in the Age of Risk and Opportunity\,” the tour examines how institutions operate within complex environments marked by uncertainty\, rapid change\, and evolving public expectations. Singapore provides a compelling setting for this reflection due to its reputation for disciplined governance\, forward-looking public policy\, and strong institutional coordination. \nThe programme provides participants with an opportunity to engage with governance practices that have shaped Singapore’s development while reflecting on lessons that can inform institutions across different jurisdictions. Through structured engagements and knowledge exchange\, the study tour encourages thoughtful dialogue on leadership\, institutional responsibility\, and the role of governance in shaping stable and responsive organizations. Participants leave with fresh perspectives on how governance frameworks can respond to emerging challenges while strengthening institutional integrity and long-term performance.
URL:https://pliinstitute.com/event/singapore-study-tour/
ATTACH;FMTTYPE=image/jpeg:https://pliinstitute.com/wp-content/uploads/2026/04/Singapore-3.jpg
END:VEVENT
END:VCALENDAR